BEGIN:VCALENDAR
VERSION:2.0
PRODID:-//AudioTheme 3.0.2
BEGIN:VEVENT
UID:urn:uuid:68fc6fa1-af6f-46df-b24e-7097e143ada0
URL:https://www.gutterswan.com/shows/sinners-hour-st-pattys-party-crux/
DTSTART;TZID=GMT:20160318T000000
SUMMARY:Sinner's Hour St. Patty's Party with The Crux
DESCRIPTION:We'll be sitting in for a few songs with our friends\, The Crux
LOCATION:The Chapel\, 777 Valencia Street\, San Francisco\, CA\, USA\, 94110
END:VEVENT
END:VCALENDAR
