BEGIN:VCALENDAR
VERSION:2.0
PRODID:-//AudioTheme 3.0.2
BEGIN:VEVENT
UID:urn:uuid:f30c3267-9995-455f-a81c-126efc968e48
URL:https://www.gutterswan.com/shows/mad-mama-bona-fide-gutter-swan-2/
DTSTART;TZID=GMT:20160422T020000
SUMMARY:Mad Mama and The Bona Fide Few, Gutter Swan
LOCATION:Driftwood\, 1225 Folsom Street\, San Francisco\, CA\, USA\, 94103
END:VEVENT
END:VCALENDAR
