BEGIN:VCALENDAR
VERSION:2.0
PRODID:-//AudioTheme 3.0.2
BEGIN:VEVENT
UID:urn:uuid:5b20bdc8-c87c-464b-b4b3-ea1b84a0fb60
URL:https://www.gutterswan.com/shows/gutter-swan-americana-happy-hour-3/
DTSTART;TZID=GMT:20190608T123000
SUMMARY:Gutter Swan Americana Happy Hour
DESCRIPTION:A free\, all-ages happy hour show where we'll play 2 sets.
LOCATION:PianoFight\, 144 Taylor Street\, San Francisco\, CA\, United States\, 94102
END:VEVENT
END:VCALENDAR
