BEGIN:VCALENDAR
VERSION:2.0
PRODID:-//AudioTheme 3.0.2
BEGIN:VEVENT
UID:urn:uuid:0fe0972c-25f2-45df-963c-a8ea8e8122d2
URL:https://www.gutterswan.com/shows/american-professionals-anton-barbeau-corner-laughers-gutter-swan/
DTSTART;TZID=GMT:20160326T030000
SUMMARY:American Professionals, Anton Barbeau, Corner Laughers, Gutter Swan
LOCATION:Neck of the Woods\, 406 Clement Street\, San Francisco\, CA\, USA\, 94118
END:VEVENT
END:VCALENDAR
